BEGIN:VCALENDAR
VERSION:2.0
PRODID:-//Corofin Trad Fest - ECPv6.15.20//NONSGML v1.0//EN
CALSCALE:GREGORIAN
METHOD:PUBLISH
X-ORIGINAL-URL:https://corofintradfest.ie
X-WR-CALDESC:Events for Corofin Trad Fest
REFRESH-INTERVAL;VALUE=DURATION:PT1H
X-Robots-Tag:noindex
X-PUBLISHED-TTL:PT1H
BEGIN:VTIMEZONE
TZID:UTC
BEGIN:STANDARD
TZOFFSETFROM:+0000
TZOFFSETTO:+0000
TZNAME:UTC
DTSTART:20230101T000000
END:STANDARD
END:VTIMEZONE
BEGIN:VEVENT
DTSTART;TZID=UTC:20240303T150000
DTEND;TZID=UTC:20240303T160000
DTSTAMP:20260422T114507
CREATED:20240124T174105Z
LAST-MODIFIED:20240126T120742Z
UID:2125-1709478000-1709481600@corofintradfest.ie
SUMMARY:CD launch by David Sanders
DESCRIPTION:Local Corofin Fiddle Player to Release Debut Album \nSunday the 3rd of March at 3pm in Teach Ceoil Corofin will see the launch of “Chance Encounters\, Last minute notions”\, the debut album by local musician David Sanders. This release is part of The Corofin Tradfest\, 2024. \nDavid has been playing the fiddle for over forty years having been inspired and encouraged along the way by the likes of Gus Tierney and Tony Linnane. He has spent his life involved in sessions all over county Clare and is currently a member of Shaskeen. \nThe album contains a wide variety of diverse influences which reflect David’s interest in music\, from traditional reels and jigs to American waltzes etc.. \n\nThe launch will comprise of a short interview with Eoin O’Neill followed by the official launch by special guest Jack Talty. \nThere will then be a performance of tunes and songs from the album by a host of musicians including the one and only Katie Theasby. \nAdmission is free and we look forward to seeing you all there – It promises to be a great evening – not to be missed – See you there
URL:https://corofintradfest.ie/event/cd-launch-by-david-sanders/
LOCATION:Teach Ceoil\, Corofin\, Clare\, V95 W521\, Ireland
CATEGORIES:Sun 3 Mar 2024
ATTACH;FMTTYPE=image/jpeg:https://corofintradfest.ie/wp-content/uploads/2024/01/corofintradfest2024-davidsanders.jpg
END:VEVENT
END:VCALENDAR