BEGIN:VCALENDAR
VERSION:2.0
PRODID:-//Corofin Trad Fest - ECPv6.15.20//NONSGML v1.0//EN
CALSCALE:GREGORIAN
METHOD:PUBLISH
X-ORIGINAL-URL:https://corofintradfest.ie
X-WR-CALDESC:Events for Corofin Trad Fest
REFRESH-INTERVAL;VALUE=DURATION:PT1H
X-Robots-Tag:noindex
X-PUBLISHED-TTL:PT1H
BEGIN:VTIMEZONE
TZID:UTC
BEGIN:STANDARD
TZOFFSETFROM:+0000
TZOFFSETTO:+0000
TZNAME:UTC
DTSTART:20240101T000000
END:STANDARD
END:VTIMEZONE
BEGIN:VEVENT
DTSTART;TZID=UTC:20250227T200000
DTEND;TZID=UTC:20250227T200000
DTSTAMP:20260422T113622
CREATED:20250115T174952Z
LAST-MODIFIED:20250116T103021Z
UID:2251-1740686400-1740686400@corofintradfest.ie
SUMMARY:Thursday Night Concert 2025
DESCRIPTION:Thurs 27th Feb.  8pm Admission €25\nTara Breen & friends;\nSean & Aisling Lyons with Dermot Sheedy\nBOOK HERE >>\n  \nTara Breen \nTara Breen\, a highly talented multi-instrumentalist from Ruan Co. Clare\, has achieved All-Ireland titles on fiddle in every age category over the years\, culminating with the All-Ireland Senior Fiddle Title in 2012. Tara is also an All-Ireland winner on the flute and saxophone. Tara has won 11 solo All Ireland Fleadh titles and 10 group All Ireland Fleadh titles. In 2011\, Tara was chosen to play at Dublin Castle for the Queen of England during her State visit to Ireland.\nTara studied music and Irish in University College Cork and received an honour in BAMus and Bmus. \nTara was selected by Donal Lunny for the T.V. series\, ‘Lorg Lunny’\, which culminated in the band Ciorras. Ciorras recorded their debut album entitles ‘Ciorras’ in 2010. In 2014\, Tara recorded an album with Conor Moriarty and Stephen Rooney\, titled The Trí Tones who were rewarded the title of Album of The Year from Tradconnect.\nIn 2014\, she joined six-time Grammy award winning band\, The Chieftains for their North American tour\, and currently plays with them at various venues both at home and abroad. Tara joined the legendary band\, Stockton’s Wing in 2015\, whom she still regularly tours with.  Tara joined Heartbeat of Home in 2018 and toured China and Germany for 6 months\, finishing with a 6 week run in The West End. \nIn 2019\, Tara recorded an album with Padraig Rynne\, Conor Crimmins and Elaine Hogan entitled Avalla. Tara has taught fiddle for the last 12 years and is currently employed with Music Generation. \nTara has collaborated with Pádraig Rynne and Jim Murray on two acclaimed albums\, Nasc (2021) and Odyssey (2024). Together\, they continue to tour regularly\, bringing their dynamic performances worldwide. Tara has just released her highly anticipated debut solo fiddle album\, Sooner or Later.
URL:https://corofintradfest.ie/event/thursday-night-concert-2025/
LOCATION:Teach Ceoil\, Corofin\, Clare\, V95 W521\, Ireland
CATEGORIES:Thurs 27 Feb 2025
ATTACH;FMTTYPE=image/jpeg:https://corofintradfest.ie/wp-content/uploads/2025/01/corofintradfest-2025-thursday-night.jpg
END:VEVENT
END:VCALENDAR